Package: Rigraphlib Version: 1.2.0 Command: /home/biocbuild/R/R/bin/R CMD INSTALL Rigraphlib StartedAt: 2025-11-10 21:07:08 -0000 (Mon, 10 Nov 2025) EndedAt: 2025-11-10 21:12:00 -0000 (Mon, 10 Nov 2025) EllapsedTime: 291.5 seconds RetCode: 0 Status: OK