Package: Rigraphlib Version: 1.2.0 Command: /home/biocbuild/R/R/bin/R CMD check --install=check:Rigraphlib.install-out.txt --library=/home/biocbuild/R/R/site-library --no-vignettes --timings Rigraphlib_1.2.0.tar.gz StartedAt: 2025-11-18 14:09:41 -0000 (Tue, 18 Nov 2025) EndedAt: 2025-11-18 14:11:41 -0000 (Tue, 18 Nov 2025) EllapsedTime: 120.1 seconds RetCode: 0 Status: WARNINGS CheckDir: Rigraphlib.Rcheck Warnings: 1