Package: Rigraphlib Version: 1.2.0 Command: /home/biocbuild/bbs-3.22-bioc/R/bin/R CMD check --install=check:Rigraphlib.install-out.txt --library=/home/biocbuild/bbs-3.22-bioc/R/site-library --timings Rigraphlib_1.2.0.tar.gz StartedAt: 2025-11-12 03:24:49 -0500 (Wed, 12 Nov 2025) EndedAt: 2025-11-12 03:25:04 -0500 (Wed, 12 Nov 2025) EllapsedTime: 15.0 seconds RetCode: 0 Status: WARNINGS CheckDir: Rigraphlib.Rcheck Warnings: 1