Package: Rigraphlib Version: 1.2.0 Command: /home/biocbuild/bbs-3.22-bioc/R/bin/R CMD build --keep-empty-dirs --no-resave-data --md5 Rigraphlib StartedAt: 2025-11-11 19:46:45 -0500 (Tue, 11 Nov 2025) EndedAt: 2025-11-11 19:46:54 -0500 (Tue, 11 Nov 2025) EllapsedTime: 9.0 seconds RetCode: 0 Status: OK PackageFile: Rigraphlib_1.2.0.tar.gz PackageFileSize: 4.323 MiB