Package: Rigraphlib Version: 1.0.0 Command: /home/biocbuild/bbs-3.21-bioc/R/bin/R CMD INSTALL Rigraphlib StartedAt: 2025-09-28 15:20:08 -0400 (Sun, 28 Sep 2025) EndedAt: 2025-09-28 15:23:28 -0400 (Sun, 28 Sep 2025) EllapsedTime: 200.3 seconds RetCode: 0 Status: OK