Package: Rigraphlib Version: 1.0.0 Command: /Library/Frameworks/R.framework/Resources/bin/R CMD INSTALL Rigraphlib StartedAt: 2025-09-25 15:08:56 -0400 (Thu, 25 Sep 2025) EndedAt: 2025-09-25 15:13:24 -0400 (Thu, 25 Sep 2025) EllapsedTime: 267.4 seconds RetCode: 0 Status: OK