Package: Rigraphlib Version: 1.0.0 Command: rm -rf Rigraphlib.buildbin-libdir && mkdir Rigraphlib.buildbin-libdir && /Users/biocbuild/BBS/utils/build-universal.sh Rigraphlib_1.0.0.tar.gz /Library/Frameworks/R.framework/Resources/bin/R Rigraphlib.buildbin-libdir StartedAt: 2025-09-26 15:38:02 -0400 (Fri, 26 Sep 2025) EndedAt: 2025-09-26 16:02:29 -0400 (Fri, 26 Sep 2025) EllapsedTime: 1467.2 seconds RetCode: 0 Status: OK PackageFile: Rigraphlib_1.0.0.tgz PackageFileSize: 8.192 MiB