Package: Rigraphlib Version: 1.0.0 Command: /Library/Frameworks/R.framework/Resources/bin/R CMD INSTALL Rigraphlib StartedAt: 2025-04-21 15:06:00 -0400 (Mon, 21 Apr 2025) EndedAt: 2025-04-21 15:09:34 -0400 (Mon, 21 Apr 2025) EllapsedTime: 214.0 seconds RetCode: 0 Status: OK