Package: Rigraphlib Version: 1.0.0 Command: /Library/Frameworks/R.framework/Resources/bin/R CMD build --keep-empty-dirs --no-resave-data Rigraphlib StartedAt: 2025-04-21 18:10:43 -0400 (Mon, 21 Apr 2025) EndedAt: 2025-04-21 18:11:20 -0400 (Mon, 21 Apr 2025) EllapsedTime: 36.5 seconds RetCode: 0 Status: OK PackageFile: Rigraphlib_1.0.0.tar.gz PackageFileSize: 4.323 MiB