Package: Rigraphlib Version: 1.0.0 Command: /home/biocbuild/R/R/bin/R CMD INSTALL Rigraphlib StartedAt: 2025-09-25 20:16:38 -0000 (Thu, 25 Sep 2025) EndedAt: 2025-09-25 20:21:38 -0000 (Thu, 25 Sep 2025) EllapsedTime: 299.9 seconds RetCode: 0 Status: OK