Package: Rigraphlib Version: 1.2.0 Command: /Library/Frameworks/R.framework/Resources/bin/R CMD check --install=check:Rigraphlib.install-out.txt --library=/Library/Frameworks/R.framework/Resources/library --no-vignettes --timings Rigraphlib_1.2.0.tar.gz StartedAt: 2025-11-02 21:44:58 -0500 (Sun, 02 Nov 2025) EndedAt: 2025-11-02 21:45:07 -0500 (Sun, 02 Nov 2025) EllapsedTime: 9.1 seconds RetCode: 0 Status: WARNINGS CheckDir: Rigraphlib.Rcheck Warnings: 1