Package: RiboProfiling Version: 1.40.0 Command: /home/biocbuild/bbs-3.22-bioc/R/bin/R CMD INSTALL RiboProfiling StartedAt: 2025-11-11 15:53:28 -0500 (Tue, 11 Nov 2025) EndedAt: 2025-11-11 15:54:17 -0500 (Tue, 11 Nov 2025) EllapsedTime: 49.1 seconds RetCode: 0 Status: OK