Package: RiboProfiling Version: 1.38.0 Command: /Library/Frameworks/R.framework/Resources/bin/R CMD build --keep-empty-dirs --no-resave-data RiboProfiling StartedAt: 2025-04-21 18:10:22 -0400 (Mon, 21 Apr 2025) EndedAt: 2025-04-21 18:13:52 -0400 (Mon, 21 Apr 2025) EllapsedTime: 210.1 seconds RetCode: 0 Status: OK PackageFile: RiboProfiling_1.38.0.tar.gz PackageFileSize: 4.659 MiB