Package: RiboProfiling Version: 1.38.0 Command: rm -rf RiboProfiling.buildbin-libdir && mkdir RiboProfiling.buildbin-libdir && /Users/biocbuild/BBS/utils/build-universal.sh RiboProfiling_1.38.0.tar.gz /Library/Frameworks/R.framework/Resources/bin/R RiboProfiling.buildbin-libdir StartedAt: 2025-04-21 22:48:59 -0400 (Mon, 21 Apr 2025) EndedAt: 2025-04-21 22:49:21 -0400 (Mon, 21 Apr 2025) EllapsedTime: 22.4 seconds RetCode: 0 Status: OK PackageFile: RiboProfiling_1.38.0.tgz PackageFileSize: 4.75 MiB