Package: RiboProfiling Version: 1.38.0 Command: /Library/Frameworks/R.framework/Resources/bin/R CMD INSTALL RiboProfiling StartedAt: 2025-10-13 17:34:15 -0400 (Mon, 13 Oct 2025) EndedAt: 2025-10-13 17:35:15 -0400 (Mon, 13 Oct 2025) EllapsedTime: 59.3 seconds RetCode: 0 Status: OK