Package: RiboProfiling Version: 1.40.0 Maintainer: A. Popa MaintainerEmail: alexandra.mariela.popa at gmail.com git_url: https://git.bioconductor.org/packages/RiboProfiling git_branch: RELEASE_3_22 git_last_commit: 43cc4ee git_last_commit_date: 2025-10-29 10:28:21 -0400 (Wed, 29 Oct 2025)