Package: RiboDiPA Version: 1.18.0 Command: /home/biocbuild/bbs-3.22-bioc/R/bin/R CMD INSTALL RiboDiPA StartedAt: 2025-11-13 15:40:20 -0500 (Thu, 13 Nov 2025) EndedAt: 2025-11-13 15:41:13 -0500 (Thu, 13 Nov 2025) EllapsedTime: 53.3 seconds RetCode: 0 Status: OK