Package: RiboDiPA Version: 1.18.0 Command: /home/biocbuild/bbs-3.22-bioc/R/bin/R CMD build --keep-empty-dirs --no-resave-data --md5 RiboDiPA StartedAt: 2025-11-13 19:44:04 -0500 (Thu, 13 Nov 2025) EndedAt: 2025-11-13 19:49:47 -0500 (Thu, 13 Nov 2025) EllapsedTime: 343.3 seconds RetCode: 0 Status: OK PackageFile: RiboDiPA_1.18.0.tar.gz PackageFileSize: 1.762 MiB