Package: RiboCrypt Version: 1.16.0 Command: /home/biocbuild/bbs-3.22-bioc/R/bin/R CMD INSTALL RiboCrypt StartedAt: 2025-11-11 15:46:32 -0500 (Tue, 11 Nov 2025) EndedAt: 2025-11-11 15:47:23 -0500 (Tue, 11 Nov 2025) EllapsedTime: 51.3 seconds RetCode: 0 Status: OK