Package: RiboCrypt Version: 1.16.0 Command: /home/biocbuild/bbs-3.22-bioc/R/bin/R CMD build --keep-empty-dirs --no-resave-data --md5 RiboCrypt StartedAt: 2025-11-11 19:45:08 -0500 (Tue, 11 Nov 2025) EndedAt: 2025-11-11 19:46:37 -0500 (Tue, 11 Nov 2025) EllapsedTime: 89.1 seconds RetCode: 0 Status: OK PackageFile: RiboCrypt_1.16.0.tar.gz PackageFileSize: 12.25 MiB