Package: RiboCrypt Version: 1.16.0 Command: /Library/Frameworks/R.framework/Resources/bin/R CMD INSTALL RiboCrypt StartedAt: 2025-11-03 15:43:07 -0500 (Mon, 03 Nov 2025) EndedAt: 2025-11-03 15:44:16 -0500 (Mon, 03 Nov 2025) EllapsedTime: 68.9 seconds RetCode: 0 Status: OK