Package: RiboCrypt Version: 1.16.0 Command: /Library/Frameworks/R.framework/Resources/bin/R CMD build --keep-empty-dirs --no-resave-data RiboCrypt StartedAt: 2025-11-03 18:28:15 -0500 (Mon, 03 Nov 2025) EndedAt: 2025-11-03 18:30:04 -0500 (Mon, 03 Nov 2025) EllapsedTime: 108.4 seconds RetCode: 0 Status: OK PackageFile: RiboCrypt_1.16.0.tar.gz PackageFileSize: 12.24 MiB