Package: RiboCrypt Version: 1.14.1 Command: /home/biocbuild/R/R/bin/R CMD INSTALL RiboCrypt StartedAt: 2025-10-09 20:57:15 -0000 (Thu, 09 Oct 2025) EndedAt: 2025-10-09 20:58:26 -0000 (Thu, 09 Oct 2025) EllapsedTime: 70.4 seconds RetCode: 0 Status: OK