Package: RiboCrypt Version: 1.14.1 Command: /home/biocbuild/R/R/bin/R CMD build --keep-empty-dirs --no-resave-data RiboCrypt StartedAt: 2025-10-10 03:57:19 -0000 (Fri, 10 Oct 2025) EndedAt: 2025-10-10 03:59:28 -0000 (Fri, 10 Oct 2025) EllapsedTime: 129.0 seconds RetCode: 0 Status: OK PackageFile: RiboCrypt_1.14.1.tar.gz PackageFileSize: 12.84 MiB