Package: Rhtslib Version: 3.6.0 Command: /home/biocbuild/R/R/bin/R CMD build --keep-empty-dirs --no-resave-data Rhtslib StartedAt: 2025-11-11 04:31:18 -0000 (Tue, 11 Nov 2025) EndedAt: 2025-11-11 04:33:37 -0000 (Tue, 11 Nov 2025) EllapsedTime: 139.0 seconds RetCode: 0 Status: OK PackageFile: Rhtslib_3.6.0.tar.gz PackageFileSize: 4.935 MiB