Package: Rhtslib Version: 3.4.0 Command: set _R_INSTALL_TIME_PATCHES_=no&& rm -rf Rhtslib.buildbin-libdir && mkdir Rhtslib.buildbin-libdir && E:\biocbuild\bbs-3.21-bioc\R\bin\R.exe CMD INSTALL --build --library=Rhtslib.buildbin-libdir Rhtslib_3.4.0.tar.gz StartedAt: 2025-08-15 10:06:34 -0400 (Fri, 15 Aug 2025) EndedAt: 2025-08-15 10:08:17 -0400 (Fri, 15 Aug 2025) EllapsedTime: 102.7 seconds RetCode: 0 Status: OK PackageFile: Rhtslib_3.4.0.zip PackageFileSize: 6.475 MiB