Package: Rhtslib Version: 3.6.0 Command: /home/biocbuild/bbs-3.22-bioc/R/bin/R CMD check --install=check:Rhtslib.install-out.txt --library=/home/biocbuild/bbs-3.22-bioc/R/site-library --timings Rhtslib_3.6.0.tar.gz StartedAt: 2025-11-12 03:22:30 -0500 (Wed, 12 Nov 2025) EndedAt: 2025-11-12 03:22:47 -0500 (Wed, 12 Nov 2025) EllapsedTime: 17.0 seconds RetCode: 0 Status: OK CheckDir: Rhtslib.Rcheck Warnings: 0