Package: Rhtslib Version: 3.4.0 Command: /Library/Frameworks/R.framework/Resources/bin/R CMD INSTALL Rhtslib StartedAt: 2025-09-29 15:05:09 -0400 (Mon, 29 Sep 2025) EndedAt: 2025-09-29 15:06:06 -0400 (Mon, 29 Sep 2025) EllapsedTime: 56.9 seconds RetCode: 0 Status: OK