Package: Rhtslib Version: 3.4.0 Command: rm -rf Rhtslib.buildbin-libdir && mkdir Rhtslib.buildbin-libdir && /Users/biocbuild/BBS/utils/build-universal.sh Rhtslib_3.4.0.tar.gz /Library/Frameworks/R.framework/Resources/bin/R Rhtslib.buildbin-libdir StartedAt: 2025-09-30 14:20:26 -0400 (Tue, 30 Sep 2025) EndedAt: 2025-09-30 14:21:58 -0400 (Tue, 30 Sep 2025) EllapsedTime: 91.3 seconds RetCode: 0 Status: OK PackageFile: Rhtslib_3.4.0.tgz PackageFileSize: 3.31 MiB