Package: Rhisat2 Version: 1.26.0 Command: /home/biocbuild/bbs-3.22-bioc/R/bin/R CMD INSTALL Rhisat2 StartedAt: 2025-11-11 15:48:57 -0500 (Tue, 11 Nov 2025) EndedAt: 2025-11-11 15:52:21 -0500 (Tue, 11 Nov 2025) EllapsedTime: 203.4 seconds RetCode: 0 Status: OK