Package: Rhisat2 Version: 1.26.0 Command: /home/biocbuild/bbs-3.22-bioc/R/bin/R CMD build --keep-empty-dirs --no-resave-data --md5 Rhisat2 StartedAt: 2025-11-11 19:44:49 -0500 (Tue, 11 Nov 2025) EndedAt: 2025-11-11 19:48:25 -0500 (Tue, 11 Nov 2025) EllapsedTime: 216.2 seconds RetCode: 0 Status: OK PackageFile: Rhisat2_1.26.0.tar.gz PackageFileSize: 6.762 MiB