Package: Rhisat2 Version: 1.24.0 Command: /home/biocbuild/R/R/bin/R CMD INSTALL Rhisat2 StartedAt: 2025-10-13 20:59:10 -0000 (Mon, 13 Oct 2025) EndedAt: 2025-10-13 21:04:34 -0000 (Mon, 13 Oct 2025) EllapsedTime: 324.0 seconds RetCode: 0 Status: OK