Package: Rhisat2 Version: 1.24.0 Command: /home/biocbuild/R/R/bin/R CMD build --keep-empty-dirs --no-resave-data Rhisat2 StartedAt: 2025-10-14 04:02:08 -0000 (Tue, 14 Oct 2025) EndedAt: 2025-10-14 04:07:34 -0000 (Tue, 14 Oct 2025) EllapsedTime: 325.1 seconds RetCode: 0 Status: OK PackageFile: Rhisat2_1.24.0.tar.gz PackageFileSize: 6.774 MiB