Package: Rhisat2 Version: 1.26.0 Command: /Library/Frameworks/R.framework/Resources/bin/R CMD INSTALL Rhisat2 StartedAt: 2025-11-02 15:23:13 -0500 (Sun, 02 Nov 2025) EndedAt: 2025-11-02 15:24:00 -0500 (Sun, 02 Nov 2025) EllapsedTime: 47.5 seconds RetCode: 0 Status: OK