Package: Rhisat2 Version: 1.26.0 Command: /Library/Frameworks/R.framework/Resources/bin/R CMD build --keep-empty-dirs --no-resave-data Rhisat2 StartedAt: 2025-11-02 17:30:32 -0500 (Sun, 02 Nov 2025) EndedAt: 2025-11-02 17:31:32 -0500 (Sun, 02 Nov 2025) EllapsedTime: 59.6 seconds RetCode: 0 Status: OK PackageFile: Rhisat2_1.26.0.tar.gz PackageFileSize: 6.745 MiB