Package: Rhdf5lib Version: 1.32.0 Command: /home/biocbuild/R/R/bin/R CMD INSTALL Rhdf5lib StartedAt: 2025-11-10 21:02:29 -0000 (Mon, 10 Nov 2025) EndedAt: 2025-11-10 21:07:42 -0000 (Mon, 10 Nov 2025) EllapsedTime: 312.9 seconds RetCode: 0 Status: OK