Package: Rhdf5lib Version: 1.32.0 Command: /home/biocbuild/R/R/bin/R CMD build --keep-empty-dirs --no-resave-data Rhdf5lib StartedAt: 2025-11-11 04:30:39 -0000 (Tue, 11 Nov 2025) EndedAt: 2025-11-11 04:36:00 -0000 (Tue, 11 Nov 2025) EllapsedTime: 320.1 seconds RetCode: 0 Status: OK PackageFile: Rhdf5lib_1.32.0.tar.gz PackageFileSize: 11.55 MiB