Package: Rhdf5lib Version: 1.32.0 Command: /home/biocbuild/bbs-3.22-bioc/R/bin/R CMD INSTALL Rhdf5lib StartedAt: 2025-11-11 15:06:09 -0500 (Tue, 11 Nov 2025) EndedAt: 2025-11-11 15:09:42 -0500 (Tue, 11 Nov 2025) EllapsedTime: 212.9 seconds RetCode: 0 Status: OK