Package: Rhdf5lib Version: 1.30.0 Command: /home/biocbuild/R/R/bin/R CMD check --install=check:Rhdf5lib.install-out.txt --library=/home/biocbuild/R/R/site-library --no-vignettes --timings Rhdf5lib_1.30.0.tar.gz StartedAt: 2025-10-14 13:17:07 -0000 (Tue, 14 Oct 2025) EndedAt: 2025-10-14 13:17:28 -0000 (Tue, 14 Oct 2025) EllapsedTime: 21.1 seconds RetCode: 0 Status: WARNINGS CheckDir: Rhdf5lib.Rcheck Warnings: 1