Package: Rgraphviz Version: 2.54.0 Command: /home/biocbuild/R/R/bin/R CMD INSTALL Rgraphviz StartedAt: 2025-11-13 21:19:17 -0000 (Thu, 13 Nov 2025) EndedAt: 2025-11-13 21:21:13 -0000 (Thu, 13 Nov 2025) EllapsedTime: 115.5 seconds RetCode: 0 Status: OK