Package: Rgraphviz Version: 2.54.0 Command: /home/biocbuild/R/R/bin/R CMD build --keep-empty-dirs --no-resave-data Rgraphviz StartedAt: 2025-11-11 04:30:09 -0000 (Tue, 11 Nov 2025) EndedAt: 2025-11-11 04:32:11 -0000 (Tue, 11 Nov 2025) EllapsedTime: 121.0 seconds RetCode: 0 Status: OK PackageFile: Rgraphviz_2.54.0.tar.gz PackageFileSize: 7.283 MiB