Package: Rgraphviz Version: 2.52.0 Command: rm -rf Rgraphviz.buildbin-libdir && mkdir Rgraphviz.buildbin-libdir && E:\biocbuild\bbs-3.21-bioc\R\bin\R.exe CMD INSTALL --build --library=Rgraphviz.buildbin-libdir Rgraphviz_2.52.0.tar.gz StartedAt: 2025-08-15 10:06:04 -0400 (Fri, 15 Aug 2025) EndedAt: 2025-08-15 10:20:30 -0400 (Fri, 15 Aug 2025) EllapsedTime: 865.8 seconds RetCode: 0 Status: OK PackageFile: Rgraphviz_2.52.0.zip PackageFileSize: 1.394 MiB