Package: Rgraphviz Version: 2.54.0 Command: /home/biocbuild/bbs-3.22-bioc/R/bin/R CMD check --install=check:Rgraphviz.install-out.txt --library=/home/biocbuild/bbs-3.22-bioc/R/site-library --timings Rgraphviz_2.54.0.tar.gz StartedAt: 2025-11-12 03:21:10 -0500 (Wed, 12 Nov 2025) EndedAt: 2025-11-12 03:21:54 -0500 (Wed, 12 Nov 2025) EllapsedTime: 44.0 seconds RetCode: 0 Status: WARNINGS CheckDir: Rgraphviz.Rcheck Warnings: 2