Back to Multiple platform build/check report for BioC 3.22:   simplified   long
ABCDEFGHIJKLMNOPQ[R]STUVWXYZ

This page was generated on 2025-11-12 11:57 -0500 (Wed, 12 Nov 2025).

HostnameOSArch (*)R versionInstalled pkgs
nebbiolo2Linux (Ubuntu 24.04.3 LTS)x86_644.5.1 Patched (2025-08-23 r88802) -- "Great Square Root" 4902
taishanLinux (openEuler 24.03 LTS)aarch644.5.0 (2025-04-11) -- "How About a Twenty-Six" 4668
Click on any hostname to see more info about the system (e.g. compilers)      (*) as reported by 'uname -p', except on Windows and Mac OS X

All results for package Rgraphviz


To the developers/maintainers of the Rgraphviz package:
- Allow up to 24 hours (and sometimes 48 hours) for your latest push to git@git.bioconductor.org:packages/Rgraphviz.git to reflect on this report. See Troubleshooting Build Report for more information.
- Use the following Renviron settings to reproduce errors and warnings.
- If 'R CMD check' started to fail recently on the Linux builder(s) over a missing dependency, add the missing dependency to 'Suggests:' in your DESCRIPTION file. See Renviron.bioc for more information.

raw results

Package 1784/2361HostnameOS / ArchINSTALLBUILDCHECKBUILD BIN
Rgraphviz 2.54.0  (landing page)
Kasper Daniel Hansen
Snapshot Date: 2025-11-11 13:45 -0500 (Tue, 11 Nov 2025)
git_url: https://git.bioconductor.org/packages/Rgraphviz
git_branch: RELEASE_3_22
git_last_commit: deef90a
git_last_commit_date: 2025-10-29 09:42:22 -0500 (Wed, 29 Oct 2025)
nebbiolo2Linux (Ubuntu 24.04.3 LTS) / x86_64  OK    OK    WARNINGS  UNNEEDED, same version is already published
taishanLinux (openEuler 24.03 LTS) / aarch64  OK    OK    WARNINGS  



Results for Bioconductor software packages that depend directly on package Rgraphviz

QUICK STATSOS / ArchINSTALLBUILDCHECKBUILD BIN
nebbiolo2Linux (Ubuntu 24.04.3 LTS) / x86_64
0032
0131
12622
taishanLinux (openEuler 24.03 LTS) / aarch64
0032
0230
24717
Package 1/32HostnameOS / ArchINSTALLBUILDCHECKBUILD BIN
apComplex 2.76.0  (landing page)
Denise Scholtens
git_last_commit: c8b447e
git_last_commit_date: 2025-10-29 09:55:56 -0500
nebbiolo2Linux (Ubuntu 24.04.3 LTS) / x86_64  OK    OK    OK  UNNEEDED, same version is already published
taishanLinux (openEuler 24.03 LTS) / aarch64  OK    OK    OK  
Package 2/32HostnameOS / ArchINSTALLBUILDCHECKBUILD BIN
biocGraph 1.72.0  (landing page)
Florian Hahne
git_last_commit: c7492ba
git_last_commit_date: 2025-10-29 09:59:36 -0500
nebbiolo2Linux (Ubuntu 24.04.3 LTS) / x86_64  OK    OK    OK  UNNEEDED, same version is already published
taishanLinux (openEuler 24.03 LTS) / aarch64  OK    OK    OK  
Package 3/32HostnameOS / ArchINSTALLBUILDCHECKBUILD BIN
BioMVCClass 1.78.0  (landing page)
Elizabeth Whalen
git_last_commit: ff8dda8
git_last_commit_date: 2025-10-29 09:58:24 -0500
nebbiolo2Linux (Ubuntu 24.04.3 LTS) / x86_64  OK    OK    OK  UNNEEDED, same version is already published
taishanLinux (openEuler 24.03 LTS) / aarch64  OK    OK    OK  
Package 4/32HostnameOS / ArchINSTALLBUILDCHECKBUILD BIN
bnem 1.18.0  (landing page)
Martin Pirkl
git_last_commit: c751314
git_last_commit_date: 2025-10-29 11:04:57 -0500
nebbiolo2Linux (Ubuntu 24.04.3 LTS) / x86_64  OK    OK    OK  UNNEEDED, same version is already published
taishanLinux (openEuler 24.03 LTS) / aarch64  OK    OK    OK  
Package 5/32HostnameOS / ArchINSTALLBUILDCHECKBUILD BIN
CellNOptR 1.56.0  (landing page)
Attila Gabor
git_last_commit: 2244640
git_last_commit_date: 2025-10-29 10:09:33 -0500
nebbiolo2Linux (Ubuntu 24.04.3 LTS) / x86_64  OK    OK    OK  UNNEEDED, same version is already published
taishanLinux (openEuler 24.03 LTS) / aarch64  OK    OK    OK  
Package 6/32HostnameOS / ArchINSTALLBUILDCHECKBUILD BIN
chimeraviz 1.36.0  (landing page)
Stian Lågstad
git_last_commit: 36b8261
git_last_commit_date: 2025-10-29 10:35:50 -0500
nebbiolo2Linux (Ubuntu 24.04.3 LTS) / x86_64  OK    OK    OK  UNNEEDED, same version is already published
taishanLinux (openEuler 24.03 LTS) / aarch64  OK    OK    OK  
Package 7/32HostnameOS / ArchINSTALLBUILDCHECKBUILD BIN
CytoML 2.22.0  (landing page)
Mike Jiang
git_last_commit: 8902400
git_last_commit_date: 2025-10-29 10:33:02 -0500
nebbiolo2Linux (Ubuntu 24.04.3 LTS) / x86_64  OK    OK    WARNINGS  UNNEEDED, same version is already published
taishanLinux (openEuler 24.03 LTS) / aarch64  OK    OK    WARNINGS  
Package 8/32HostnameOS / ArchINSTALLBUILDCHECKBUILD BIN
DEGraph 1.62.0  (landing page)
Laurent Jacob
git_last_commit: 1f09c9d
git_last_commit_date: 2025-10-29 10:06:12 -0500
nebbiolo2Linux (Ubuntu 24.04.3 LTS) / x86_64  OK    OK    OK  UNNEEDED, same version is already published
taishanLinux (openEuler 24.03 LTS) / aarch64  OK    OK    OK  
Package 9/32HostnameOS / ArchINSTALLBUILDCHECKBUILD BIN
EnrichDO 1.4.0  (landing page)
Hongyu Fu
git_last_commit: da942bc
git_last_commit_date: 2025-10-29 11:31:56 -0500
nebbiolo2Linux (Ubuntu 24.04.3 LTS) / x86_64  OK    OK    OK  UNNEEDED, same version is already published
taishanLinux (openEuler 24.03 LTS) / aarch64  OK    OK    OK  
Package 10/32HostnameOS / ArchINSTALLBUILDCHECKBUILD BIN
EnrichmentBrowser 2.40.0  (landing page)
Ludwig Geistlinger
git_last_commit: 2118f0c
git_last_commit_date: 2025-10-29 10:21:30 -0500
nebbiolo2Linux (Ubuntu 24.04.3 LTS) / x86_64  OK    OK    OK  UNNEEDED, same version is already published
taishanLinux (openEuler 24.03 LTS) / aarch64  OK    OK    ERROR  
Package 11/32HostnameOS / ArchINSTALLBUILDCHECKBUILD BIN
flowMerge 2.58.0  (landing page)
Greg Finak
git_last_commit: 483d2da
git_last_commit_date: 2025-10-29 10:03:02 -0500
nebbiolo2Linux (Ubuntu 24.04.3 LTS) / x86_64  OK    OK    WARNINGS  UNNEEDED, same version is already published
taishanLinux (openEuler 24.03 LTS) / aarch64  OK    OK    WARNINGS  
Package 12/32HostnameOS / ArchINSTALLBUILDCHECKBUILD BIN
flowWorkspace 4.22.0  (landing page)
Greg Finak , Mike Jiang
git_last_commit: e1edb9f
git_last_commit_date: 2025-10-29 10:07:43 -0500
nebbiolo2Linux (Ubuntu 24.04.3 LTS) / x86_64  OK    OK    WARNINGS  UNNEEDED, same version is already published
taishanLinux (openEuler 24.03 LTS) / aarch64  OK    OK    WARNINGS  
Package 13/32HostnameOS / ArchINSTALLBUILDCHECKBUILD BIN
GeneNetworkBuilder 1.52.0  (landing page)
Jianhong Ou
git_last_commit: f2c4229
git_last_commit_date: 2025-10-29 10:11:49 -0500
nebbiolo2Linux (Ubuntu 24.04.3 LTS) / x86_64  OK    OK    OK  UNNEEDED, same version is already published
taishanLinux (openEuler 24.03 LTS) / aarch64  OK    OK    OK  
Package 14/32HostnameOS / ArchINSTALLBUILDCHECKBUILD BIN
GOstats 2.76.0  (landing page)
Bioconductor Package Maintainer
git_last_commit: 7c7bec8
git_last_commit_date: 2025-10-29 09:55:01 -0500
nebbiolo2Linux (Ubuntu 24.04.3 LTS) / x86_64  OK    OK    OK  UNNEEDED, same version is already published
taishanLinux (openEuler 24.03 LTS) / aarch64  OK    ERROR  skipped
Package 15/32HostnameOS / ArchINSTALLBUILDCHECKBUILD BIN
hyperdraw 1.62.0  (landing page)
Paul Murrell
git_last_commit: d222272
git_last_commit_date: 2025-10-29 10:04:13 -0500
nebbiolo2Linux (Ubuntu 24.04.3 LTS) / x86_64  OK    OK    OK  UNNEEDED, same version is already published
taishanLinux (openEuler 24.03 LTS) / aarch64  OK    OK    OK  
Package 16/32HostnameOS / ArchINSTALLBUILDCHECKBUILD BIN
KEGGgraph 1.70.0  (landing page)
Jitao David Zhang
git_last_commit: f90447d
git_last_commit_date: 2025-10-29 10:02:08 -0500
nebbiolo2Linux (Ubuntu 24.04.3 LTS) / x86_64  OK    OK    OK  UNNEEDED, same version is already published
taishanLinux (openEuler 24.03 LTS) / aarch64  OK    OK    OK  
Package 17/32HostnameOS / ArchINSTALLBUILDCHECKBUILD BIN
MineICA 1.50.0  (landing page)
Anne Biton
git_last_commit: dc9c2eb
git_last_commit_date: 2025-10-29 10:13:40 -0500
nebbiolo2Linux (Ubuntu 24.04.3 LTS) / x86_64  OK    OK    ERROR  
taishanLinux (openEuler 24.03 LTS) / aarch64  OK    OK    ERROR  
Package 18/32HostnameOS / ArchINSTALLBUILDCHECKBUILD BIN
mirIntegrator 1.40.0  (landing page)
Diana Diaz
git_last_commit: 1bd2140
git_last_commit_date: 2025-10-29 10:26:26 -0500
nebbiolo2Linux (Ubuntu 24.04.3 LTS) / x86_64  OK    OK    OK  UNNEEDED, same version is already published
taishanLinux (openEuler 24.03 LTS) / aarch64  OK    OK    OK  
Package 19/32HostnameOS / ArchINSTALLBUILDCHECKBUILD BIN
MIRit 1.6.0  (landing page)
Jacopo Ronchi
git_last_commit: 2274523
git_last_commit_date: 2025-10-29 11:27:39 -0500
nebbiolo2Linux (Ubuntu 24.04.3 LTS) / x86_64  OK    OK    OK  UNNEEDED, same version is already published
taishanLinux (openEuler 24.03 LTS) / aarch64  OK    OK    ERROR  
Package 20/32HostnameOS / ArchINSTALLBUILDCHECKBUILD BIN
mnem 1.26.0  (landing page)
Martin Pirkl
git_last_commit: ecde75f
git_last_commit_date: 2025-10-29 10:52:33 -0500
nebbiolo2Linux (Ubuntu 24.04.3 LTS) / x86_64  OK    OK    OK  UNNEEDED, same version is already published
taishanLinux (openEuler 24.03 LTS) / aarch64  OK    OK    WARNINGS  
Package 21/32HostnameOS / ArchINSTALLBUILDCHECKBUILD BIN
netresponse 1.70.0  (landing page)
Leo Lahti
git_last_commit: 2ffd016
git_last_commit_date: 2025-10-29 10:05:48 -0500
nebbiolo2Linux (Ubuntu 24.04.3 LTS) / x86_64  OK    OK    OK  UNNEEDED, same version is already published
taishanLinux (openEuler 24.03 LTS) / aarch64  OK    OK    OK  
Package 22/32HostnameOS / ArchINSTALLBUILDCHECKBUILD BIN
OncoSimulR 4.12.0  (landing page)
Ramon Diaz-Uriarte
git_last_commit: 0528208
git_last_commit_date: 2025-10-29 10:20:29 -0500
nebbiolo2Linux (Ubuntu 24.04.3 LTS) / x86_64  OK    OK    OK  UNNEEDED, same version is already published
taishanLinux (openEuler 24.03 LTS) / aarch64  OK    OK    TIMEOUT  
Package 23/32HostnameOS / ArchINSTALLBUILDCHECKBUILD BIN
ontoProc 2.4.0  (landing page)
Vincent Carey
git_last_commit: f2c1b3f
git_last_commit_date: 2025-10-29 19:20:08 -0500
nebbiolo2Linux (Ubuntu 24.04.3 LTS) / x86_64  OK    OK    TIMEOUT  
taishanLinux (openEuler 24.03 LTS) / aarch64  OK    OK    TIMEOUT  
Package 24/32HostnameOS / ArchINSTALLBUILDCHECKBUILD BIN
paircompviz 1.48.0  (landing page)
Michal Burda
git_last_commit: 0185a4f
git_last_commit_date: 2025-10-29 10:15:14 -0500
nebbiolo2Linux (Ubuntu 24.04.3 LTS) / x86_64  OK    OK    OK  UNNEEDED, same version is already published
taishanLinux (openEuler 24.03 LTS) / aarch64  OK    OK    OK  
Package 25/32HostnameOS / ArchINSTALLBUILDCHECKBUILD BIN
pathRender 1.78.0  (landing page)
Vince Carey
git_last_commit: 4ea6df8
git_last_commit_date: 2025-10-29 09:57:23 -0500
nebbiolo2Linux (Ubuntu 24.04.3 LTS) / x86_64  OK    OK    OK  UNNEEDED, same version is already published
taishanLinux (openEuler 24.03 LTS) / aarch64  OK    OK    OK  
Package 26/32HostnameOS / ArchINSTALLBUILDCHECKBUILD BIN
pathview 1.50.0  (landing page)
Weijun Luo
git_last_commit: 5efd147
git_last_commit_date: 2025-10-29 10:14:01 -0500
nebbiolo2Linux (Ubuntu 24.04.3 LTS) / x86_64  OK    OK    WARNINGS  UNNEEDED, same version is already published
taishanLinux (openEuler 24.03 LTS) / aarch64  OK    OK    WARNINGS  
Package 27/32HostnameOS / ArchINSTALLBUILDCHECKBUILD BIN
Pigengene 1.36.0  (landing page)
Habil Zare
git_last_commit: 98253f3
git_last_commit_date: 2025-10-29 10:32:29 -0500
nebbiolo2Linux (Ubuntu 24.04.3 LTS) / x86_64  OK    OK    ERROR  
taishanLinux (openEuler 24.03 LTS) / aarch64  OK    OK    ERROR  
Package 28/32HostnameOS / ArchINSTALLBUILDCHECKBUILD BIN
qpgraph 2.44.0  (landing page)
Robert Castelo
git_last_commit: 7de7e0c
git_last_commit_date: 2025-10-29 10:02:10 -0500
nebbiolo2Linux (Ubuntu 24.04.3 LTS) / x86_64  OK    OK    OK  UNNEEDED, same version is already published
taishanLinux (openEuler 24.03 LTS) / aarch64  OK    OK    OK  
Package 29/32HostnameOS / ArchINSTALLBUILDCHECKBUILD BIN
ROntoTools 2.38.0  (landing page)
Sorin Draghici
git_last_commit: 5e9ce05
git_last_commit_date: 2025-10-29 10:14:20 -0500
nebbiolo2Linux (Ubuntu 24.04.3 LTS) / x86_64  OK    OK    WARNINGS  UNNEEDED, same version is already published
taishanLinux (openEuler 24.03 LTS) / aarch64  OK    OK    WARNINGS  
Package 30/32HostnameOS / ArchINSTALLBUILDCHECKBUILD BIN
SGCP 1.10.0  (landing page)
Niloofar AghaieAbiane
git_last_commit: d571adf
git_last_commit_date: 2025-10-29 11:20:24 -0500
nebbiolo2Linux (Ubuntu 24.04.3 LTS) / x86_64  OK    ERROR  skipped
taishanLinux (openEuler 24.03 LTS) / aarch64  OK    ERROR  skipped
Package 31/32HostnameOS / ArchINSTALLBUILDCHECKBUILD BIN
SplicingGraphs 1.50.1  (landing page)
H. Pagès
git_last_commit: 02123b2
git_last_commit_date: 2025-11-02 12:50:45 -0500
nebbiolo2Linux (Ubuntu 24.04.3 LTS) / x86_64  OK    OK    WARNINGS  UNNEEDED, same version is already published
taishanLinux (openEuler 24.03 LTS) / aarch64  OK    OK    WARNINGS  
Package 32/32HostnameOS / ArchINSTALLBUILDCHECKBUILD BIN
TRONCO 2.42.0  (landing page)
Luca De Sano
git_last_commit: f575cac
git_last_commit_date: 2025-10-29 10:23:30 -0500
nebbiolo2Linux (Ubuntu 24.04.3 LTS) / x86_64  OK    OK    OK  UNNEEDED, same version is already published
taishanLinux (openEuler 24.03 LTS) / aarch64  OK    OK    OK