Package: Rfastp Version: 1.20.0 Command: /home/biocbuild/R/R/bin/R CMD INSTALL Rfastp StartedAt: 2025-11-13 22:19:10 -0000 (Thu, 13 Nov 2025) EndedAt: 2025-11-13 22:19:10 -0000 (Thu, 13 Nov 2025) EllapsedTime: 0.3 seconds RetCode: 1 Status: ERROR