Package: Rfastp Version: 1.18.0 Command: /home/biocbuild/bbs-3.21-bioc/R/bin/R CMD INSTALL Rfastp StartedAt: 2025-10-15 15:10:58 -0400 (Wed, 15 Oct 2025) EndedAt: 2025-10-15 15:12:13 -0400 (Wed, 15 Oct 2025) EllapsedTime: 75.5 seconds RetCode: 0 Status: OK