Package: Rfastp Version: 1.18.0 Command: /home/biocbuild/bbs-3.21-bioc/R/bin/R CMD build --keep-empty-dirs --no-resave-data Rfastp StartedAt: 2025-10-15 19:27:28 -0400 (Wed, 15 Oct 2025) EndedAt: 2025-10-15 19:28:54 -0400 (Wed, 15 Oct 2025) EllapsedTime: 86.1 seconds RetCode: 0 Status: OK PackageFile: Rfastp_1.18.0.tar.gz PackageFileSize: 2.688 MiB