Package: Rfastp Version: 1.20.0 Command: /Library/Frameworks/R.framework/Resources/bin/R CMD INSTALL Rfastp StartedAt: 2025-11-24 17:07:21 -0500 (Mon, 24 Nov 2025) EndedAt: 2025-11-24 17:07:22 -0500 (Mon, 24 Nov 2025) EllapsedTime: 0.3 seconds RetCode: 1 Status: ERROR