Package: Rfastp Version: 1.20.0 Command: /Library/Frameworks/R.framework/Resources/bin/R CMD build --keep-empty-dirs --no-resave-data Rfastp StartedAt: 2025-11-24 22:25:44 -0500 (Mon, 24 Nov 2025) EndedAt: 2025-11-24 22:25:46 -0500 (Mon, 24 Nov 2025) EllapsedTime: 2.2 seconds RetCode: 1 Status: ERROR PackageFile: None PackageFileSize: NA