Package: Rfastp Version: 1.18.0 Command: /Library/Frameworks/R.framework/Resources/bin/R CMD build --keep-empty-dirs --no-resave-data Rfastp StartedAt: 2025-10-14 07:40:46 -0400 (Tue, 14 Oct 2025) EndedAt: 2025-10-14 07:42:18 -0400 (Tue, 14 Oct 2025) EllapsedTime: 91.6 seconds RetCode: 0 Status: OK PackageFile: Rfastp_1.18.0.tar.gz PackageFileSize: 2.7 MiB